BEGIN:VCALENDAR
VERSION:2.0
PRODID:-//CCUF Portal - ECPv6.15.20//NONSGML v1.0//EN
CALSCALE:GREGORIAN
METHOD:PUBLISH
X-WR-CALNAME:CCUF Portal
X-ORIGINAL-URL:https://ccusersforum.org
X-WR-CALDESC:Events for CCUF Portal
REFRESH-INTERVAL;VALUE=DURATION:PT1H
X-Robots-Tag:noindex
X-PUBLISHED-TTL:PT1H
BEGIN:VTIMEZONE
TZID:America/New_York
BEGIN:DAYLIGHT
TZOFFSETFROM:-0500
TZOFFSETTO:-0400
TZNAME:EDT
DTSTART:20250309T070000
END:DAYLIGHT
BEGIN:STANDARD
TZOFFSETFROM:-0400
TZOFFSETTO:-0500
TZNAME:EST
DTSTART:20251102T060000
END:STANDARD
BEGIN:DAYLIGHT
TZOFFSETFROM:-0500
TZOFFSETTO:-0400
TZNAME:EDT
DTSTART:20260308T070000
END:DAYLIGHT
BEGIN:STANDARD
TZOFFSETFROM:-0400
TZOFFSETTO:-0500
TZNAME:EST
DTSTART:20261101T060000
END:STANDARD
BEGIN:DAYLIGHT
TZOFFSETFROM:-0500
TZOFFSETTO:-0400
TZNAME:EDT
DTSTART:20270314T070000
END:DAYLIGHT
BEGIN:STANDARD
TZOFFSETFROM:-0400
TZOFFSETTO:-0500
TZNAME:EST
DTSTART:20271107T060000
END:STANDARD
END:VTIMEZONE
BEGIN:VEVENT
DTSTART;VALUE=DATE:20260401
DTEND;VALUE=DATE:20260402
DTSTAMP:20260419T151720
CREATED:20260211T135707Z
LAST-MODIFIED:20260211T135707Z
UID:1429-1775001600-1775087999@ccusersforum.org
SUMMARY:2026 CCUF MGMT Election Announcement
DESCRIPTION:
URL:https://ccusersforum.org/event/2026-ccuf-mgmt-election-announcement/
END:VEVENT
BEGIN:VEVENT
DTSTART;TZID=America/New_York:20260401T080000
DTEND;TZID=America/New_York:20260401T110000
DTSTAMP:20260419T151720
CREATED:20260129T162857Z
LAST-MODIFIED:20260320T122414Z
UID:1418-1775030400-1775041200@ccusersforum.org
SUMMARY:The 29th CCUF Workshop (Spring 2026)
DESCRIPTION:Meeting Information: \nSpring CCUF Meeting\nWednesday\, April 1 · 8:00 – 11:00am\nTime zone: America/New_York\nGoogle Meet joining info\nVideo call link: https://meet.google.com/xbg-hyhw-kus\nOr dial: ‪(US) +1 253-289-6996‬ PIN: ‪995 304 183 98‬#\nMore phone numbers: https://tel.meet/xbg-hyhw-kus?pin=2428906168929 \nAgenda \n\n\n\n\n\n\n\n8:00 AM\n15 minutes\nWelcome\n\n\n8:15 AM\n30 minutes\nEU Update (summary for EUCA Conference)\n\n\n8:45 AM\n30 minutes\nISO Update\n\n\n9:15 AM\n15 minutes\nPP Status Update (CC:2022 updates)\n\n\n9:30 AM\n15 minutes\nNIAP Update\n\n\n9:45 AM\n30 minutes\niTC Updates\n\n\n10:15 AM\n30 minutes\nENISA CRA Pilot Updates\n\n\n10:45 AM\n15 minutes\nElection Announcement\n\n\n11:00 AM\n5 mintues\nClose\n\n\n\nForum link
URL:https://ccusersforum.org/event/the-29th-ccuf-workshop-spring-2026/
LOCATION:Virtual
END:VEVENT
END:VCALENDAR