BEGIN:VCALENDAR
VERSION:2.0
PRODID:-//CCUF Portal - ECPv6.15.20//NONSGML v1.0//EN
CALSCALE:GREGORIAN
METHOD:PUBLISH
X-ORIGINAL-URL:https://ccusersforum.org
X-WR-CALDESC:Events for CCUF Portal
REFRESH-INTERVAL;VALUE=DURATION:PT1H
X-Robots-Tag:noindex
X-PUBLISHED-TTL:PT1H
BEGIN:VTIMEZONE
TZID:Europe/Paris
BEGIN:DAYLIGHT
TZOFFSETFROM:+0100
TZOFFSETTO:+0200
TZNAME:CEST
DTSTART:20250330T010000
END:DAYLIGHT
BEGIN:STANDARD
TZOFFSETFROM:+0200
TZOFFSETTO:+0100
TZNAME:CET
DTSTART:20251026T010000
END:STANDARD
BEGIN:DAYLIGHT
TZOFFSETFROM:+0100
TZOFFSETTO:+0200
TZNAME:CEST
DTSTART:20260329T010000
END:DAYLIGHT
BEGIN:STANDARD
TZOFFSETFROM:+0200
TZOFFSETTO:+0100
TZNAME:CET
DTSTART:20261025T010000
END:STANDARD
BEGIN:DAYLIGHT
TZOFFSETFROM:+0100
TZOFFSETTO:+0200
TZNAME:CEST
DTSTART:20270328T010000
END:DAYLIGHT
BEGIN:STANDARD
TZOFFSETFROM:+0200
TZOFFSETTO:+0100
TZNAME:CET
DTSTART:20271031T010000
END:STANDARD
END:VTIMEZONE
BEGIN:VEVENT
DTSTART;TZID=Europe/Paris:20260115T110000
DTEND;TZID=Europe/Paris:20260115T120000
DTSTAMP:20260422T023542
CREATED:20241205T125850Z
LAST-MODIFIED:20260115T101343Z
UID:1146-1768474800-1768478400@ccusersforum.org
SUMMARY:CCUF Membership Call Q1 2026 - EMEA (Updated)
DESCRIPTION:This is the CCUF membership call for the EMEA time zone. \n\n\n\nMeeting link:\n\n\n\nhttps://cisco.webex.com/cisco/j.php?MTID=m9290a7e81920a26c03396cebcd44412e \n\n\n\n\nMeeting number (access code): 2662 208 3326\n\n\nMeeting password: f8jKZ88H3m3 (38559884 when dialing from a phone) \n\n\n\n  \nJoin meeting \n  \nTap to join from a mobile device (attendees only)\n+1-408-525-6800\,\,26612709706#57222546# Call-in toll number (US/Canada)\nSome mobile devices may ask attendees to enter a numeric password. \nJoin by phone\n+1-408-525-6800 Call-in toll number (US/Canada)\nGlobal call-in numbers \nJoin from a video system or application\nDial 26612709706@webex.com\nYou can also dial 173.243.2.68 and enter your meeting number. \n\n\n\nNeed help? Go to http://help.webex.com
URL:https://ccusersforum.org/event/ccuf-membership-call-q4-2025-emea/
LOCATION:Virtual
END:VEVENT
END:VCALENDAR