BEGIN:VCALENDAR
VERSION:2.0
PRODID:-//CCUF Portal - ECPv6.15.20//NONSGML v1.0//EN
CALSCALE:GREGORIAN
METHOD:PUBLISH
X-WR-CALNAME:CCUF Portal
X-ORIGINAL-URL:https://ccusersforum.org
X-WR-CALDESC:Events for CCUF Portal
REFRESH-INTERVAL;VALUE=DURATION:PT1H
X-Robots-Tag:noindex
X-PUBLISHED-TTL:PT1H
BEGIN:VTIMEZONE
TZID:America/New_York
BEGIN:DAYLIGHT
TZOFFSETFROM:-0500
TZOFFSETTO:-0400
TZNAME:EDT
DTSTART:20250309T070000
END:DAYLIGHT
BEGIN:STANDARD
TZOFFSETFROM:-0400
TZOFFSETTO:-0500
TZNAME:EST
DTSTART:20251102T060000
END:STANDARD
BEGIN:DAYLIGHT
TZOFFSETFROM:-0500
TZOFFSETTO:-0400
TZNAME:EDT
DTSTART:20260308T070000
END:DAYLIGHT
BEGIN:STANDARD
TZOFFSETFROM:-0400
TZOFFSETTO:-0500
TZNAME:EST
DTSTART:20261101T060000
END:STANDARD
BEGIN:DAYLIGHT
TZOFFSETFROM:-0500
TZOFFSETTO:-0400
TZNAME:EDT
DTSTART:20270314T070000
END:DAYLIGHT
BEGIN:STANDARD
TZOFFSETFROM:-0400
TZOFFSETTO:-0500
TZNAME:EST
DTSTART:20271107T060000
END:STANDARD
END:VTIMEZONE
BEGIN:VEVENT
DTSTART;VALUE=DATE:20260323
DTEND;VALUE=DATE:20260327
DTSTAMP:20260425T115808
CREATED:20260129T163034Z
LAST-MODIFIED:20260129T163034Z
UID:1420-1774224000-1774569599@ccusersforum.org
SUMMARY:RSA Conference 2026
DESCRIPTION:At RSAC 2026\, you’re not just attending a conference—you’re stepping into a vibrant\, thriving community of thinkers\, innovators\, and achievers. Though we come from different corners of the cybersecurity world\, we are united by a common mission: to foresee risks\, counter threats\, and embrace the challenges ahead. Together\, we shape the future of security. Together\, we shine as one.
URL:https://ccusersforum.org/event/rsa-conference-2026/
END:VEVENT
END:VCALENDAR